BEGIN:VCALENDAR
METHOD:PUBLISH
VERSION:2.0
CALSCALE:GREGORIAN
PRODID:-//NONSGML WPForms//NONSGML Sugar Calendar Feeds v3.11.0//EN
X-WR-CALNAME:BREAK - 30 Mins
X-WR-CALDESC:Macstock Conference &amp\; Expo
X-WR-TIMEZONE:America/Chicago
BEGIN:VTIMEZONE
TZID:America/Chicago
BEGIN:DAYLIGHT
TZOFFSETFROM:-0600
TZOFFSETTO:-0500
DTSTART:20250309T080000
TZNAME:CDT
END:DAYLIGHT
END:VTIMEZONE
BEGIN:VTIMEZONE
TZID:America/Chicago
BEGIN:DAYLIGHT
TZOFFSETFROM:-0600
TZOFFSETTO:-0500
DTSTART:20250309T080000
TZNAME:CDT
END:DAYLIGHT
END:VTIMEZONE
BEGIN:VEVENT
SUMMARY:BREAK - 30 Mins
DESCRIPTION:
URL;VALUE=URI:https://macstockconferenceandexpo.com/events/break-30-mins
 /
UID:0B4CFCC8-07C0-4CDF-B4E5-0460B5B07595
STATUS:CONFIRMED
ORGANIZER:
DTSTAMP:20260423T082404Z
DTSTART;TZID=America/Chicago:20250712T143000
DTEND;TZID=America/Chicago:20250712T150000
END:VEVENT
END:VCALENDAR